BEGIN:VCALENDAR
VERSION:2.0
PRODID:-//U.S ORTHEZ ATHLETISME - ECPv4.5.12.2//NONSGML v1.0//EN
CALSCALE:GREGORIAN
METHOD:PUBLISH
X-WR-CALNAME:U.S ORTHEZ ATHLETISME
X-ORIGINAL-URL:http://uso-athle.fr
X-WR-CALDESC:Events for U.S ORTHEZ ATHLETISME
BEGIN:VEVENT
DTSTART;VALUE=DATE:20251123
DTEND;VALUE=DATE:20251123
DTSTAMP:20260421T134029
CREATED:20251012T190214Z
LAST-MODIFIED:20251109T191542Z
UID:7521-1763856000-1763942399@uso-athle.fr
SUMMARY:1er Triple Tri -ANGLET - Benjamin(e)s/Minimes
DESCRIPTION:
URL:http://uso-athle.fr/calendrier/1er-triple-tri-anglet-u14-u16/
LOCATION:16 rue Jean Moulin\, 64600 ANGLET\, France
ATTACH;FMTTYPE=image/jpeg:http://uso-athle.fr/wp-content/uploads/2025/10/23-10-2025-TRIPLE-TRI-1ère-Journée-ANGLET_page-0001.jpg
END:VEVENT
BEGIN:VEVENT
DTSTART;VALUE=DATE:20251123
DTEND;VALUE=DATE:20251123
DTSTAMP:20260421T134029
CREATED:20251109T190815Z
LAST-MODIFIED:20251109T191924Z
UID:7948-1763856000-1763942399@uso-athle.fr
SUMMARY:Départementaux Lancers Mcjesv + Pentalancers Masters - MONT DE MARSAN
DESCRIPTION:
URL:http://uso-athle.fr/calendrier/departementaux-lancers-mcjesv-pentalancers-masters-mont-de-marsan/
LOCATION:Plaine des sports Camille Pédarré - Chemin des Sports\, 40000 MONT DE MARSAN
ATTACH;FMTTYPE=image/jpeg:http://uso-athle.fr/wp-content/uploads/2025/11/departementaux_40_lancers_longs___pentalancers_dimanche_23_11_2025._page-0001.jpg
END:VEVENT
END:VCALENDAR