BEGIN:VCALENDAR
VERSION:2.0
PRODID:-//U.S ORTHEZ ATHLETISME - ECPv4.5.12.2//NONSGML v1.0//EN
CALSCALE:GREGORIAN
METHOD:PUBLISH
X-WR-CALNAME:U.S ORTHEZ ATHLETISME
X-ORIGINAL-URL:http://uso-athle.fr
X-WR-CALDESC:Events for U.S ORTHEZ ATHLETISME
BEGIN:VEVENT
DTSTART;VALUE=DATE:20260425
DTEND;VALUE=DATE:20260425
DTSTAMP:20260421T161229
CREATED:20251012T190931Z
LAST-MODIFIED:20251101T080935Z
UID:7532-1777075200-1777161599@uso-athle.fr
SUMMARY:Rencontre ORTHEZ - U10 / U14
DESCRIPTION:
URL:http://uso-athle.fr/calendrier/rencontre-orthez-u10-u14/
END:VEVENT
BEGIN:VEVENT
DTSTART;TZID=UTC+1:20260425T080000
DTEND;TZID=UTC+1:20260425T170000
DTSTAMP:20260421T161229
CREATED:20260217T161340Z
LAST-MODIFIED:20260217T161340Z
UID:8872-1777104000-1777136400@uso-athle.fr
SUMMARY:Equip'athlé Automnal 2026 Cd064 - Régional
DESCRIPTION:
URL:http://uso-athle.fr/calendrier/equipathle-automnal-2026-cd064-regional/
LOCATION:Stade Pavillon Bleu-Kechilua - Avenue Georges Clemenceau\,\, SAINT JEAN DE LUZ\, 64500
END:VEVENT
END:VCALENDAR