BEGIN:VCALENDAR
VERSION:2.0
PRODID:-//U.S ORTHEZ ATHLETISME - ECPv4.5.12.2//NONSGML v1.0//EN
CALSCALE:GREGORIAN
METHOD:PUBLISH
X-WR-CALNAME:U.S ORTHEZ ATHLETISME
X-ORIGINAL-URL:http://uso-athle.fr
X-WR-CALDESC:Events for U.S ORTHEZ ATHLETISME
BEGIN:VEVENT
DTSTART;TZID=UTC+1:20160508T090000
DTEND;TZID=UTC+1:20160508T120000
DTSTAMP:20260422T043835
CREATED:20160408T151130Z
LAST-MODIFIED:20160408T151130Z
UID:1805-1462698000-1462708800@uso-athle.fr
SUMMARY:Course du Lac à Biron
DESCRIPTION:
URL:http://uso-athle.fr/calendrier/course-du-lac-a-biron/
LOCATION:Route de Biron\, Orthez\, 64300
ORGANIZER;CN="USO":MAILTO:contact@uso-athle.fr
END:VEVENT
END:VCALENDAR