BEGIN:VCALENDAR
VERSION:2.0
PRODID:-//U.S ORTHEZ ATHLETISME - ECPv4.5.12.2//NONSGML v1.0//EN
CALSCALE:GREGORIAN
METHOD:PUBLISH
X-WR-CALNAME:U.S ORTHEZ ATHLETISME
X-ORIGINAL-URL:http://uso-athle.fr
X-WR-CALDESC:Events for U.S ORTHEZ ATHLETISME
BEGIN:VEVENT
DTSTART;TZID=UTC+1:20161106T100000
DTEND;TZID=UTC+1:20161106T160000
DTSTAMP:20260421T170208
CREATED:20161019T090351Z
LAST-MODIFIED:20161019T090351Z
UID:3407-1478426400-1478448000@uso-athle.fr
SUMMARY:Cross de Dax
DESCRIPTION:Horaires et Parcours \n
URL:http://uso-athle.fr/calendrier/cross-de-dax/
END:VEVENT
END:VCALENDAR