BEGIN:VCALENDAR
VERSION:2.0
PRODID:-//U.S ORTHEZ ATHLETISME - ECPv4.5.12.2//NONSGML v1.0//EN
CALSCALE:GREGORIAN
METHOD:PUBLISH
X-WR-CALNAME:U.S ORTHEZ ATHLETISME
X-ORIGINAL-URL:http://uso-athle.fr
X-WR-CALDESC:Events for U.S ORTHEZ ATHLETISME
BEGIN:VEVENT
DTSTART;TZID=UTC+1:20161204T080000
DTEND;TZID=UTC+1:20161204T170000
DTSTAMP:20260421T170419
CREATED:20161118T123017Z
LAST-MODIFIED:20161118T123017Z
UID:3426-1480838400-1480870800@uso-athle.fr
SUMMARY:Cross de Mont de Marsan
DESCRIPTION:
URL:http://uso-athle.fr/calendrier/cross-de-mont-de-marsan/
LOCATION:270 avenue du stade\, Mont-de-Marsan\, 40000
END:VEVENT
END:VCALENDAR