BEGIN:VCALENDAR
VERSION:2.0
PRODID:-//U.S ORTHEZ ATHLETISME - ECPv4.5.12.2//NONSGML v1.0//EN
CALSCALE:GREGORIAN
METHOD:PUBLISH
X-WR-CALNAME:U.S ORTHEZ ATHLETISME
X-ORIGINAL-URL:http://uso-athle.fr
X-WR-CALDESC:Events for U.S ORTHEZ ATHLETISME
BEGIN:VEVENT
DTSTART;TZID=UTC+1:20160528T080000
DTEND;TZID=UTC+1:20160528T170000
DTSTAMP:20260422T011405
CREATED:20160527T121057Z
LAST-MODIFIED:20160527T121424Z
UID:2765-1464422400-1464454800@uso-athle.fr
SUMMARY:Départementaux B/M
DESCRIPTION:Horaires \n
URL:http://uso-athle.fr/calendrier/departementaux-bm/
LOCATION:AVENUE GEORGES CLEMENCEAU\, Saint Jean de Luz\, 64500
END:VEVENT
END:VCALENDAR