BEGIN:VCALENDAR
VERSION:2.0
PRODID:-//U.S ORTHEZ ATHLETISME - ECPv4.5.12.2//NONSGML v1.0//EN
CALSCALE:GREGORIAN
METHOD:PUBLISH
X-WR-CALNAME:U.S ORTHEZ ATHLETISME
X-ORIGINAL-URL:http://uso-athle.fr
X-WR-CALDESC:Events for U.S ORTHEZ ATHLETISME
BEGIN:VEVENT
DTSTART;TZID=UTC+1:20160529T080000
DTEND;TZID=UTC+1:20160529T170000
DTSTAMP:20260421T233107
CREATED:20160527T121317Z
LAST-MODIFIED:20160527T121330Z
UID:2768-1464508800-1464541200@uso-athle.fr
SUMMARY:Départementaux C/J/E/S
DESCRIPTION:Horaires  \n
URL:http://uso-athle.fr/calendrier/departementaux-cjes/
LOCATION:AVENUE GEORGES CLEMENCEAU\, Saint Jean de Luz\, 64500
END:VEVENT
END:VCALENDAR