BEGIN:VCALENDAR
VERSION:2.0
PRODID:-//U.S ORTHEZ ATHLETISME - ECPv4.5.12.2//NONSGML v1.0//EN
CALSCALE:GREGORIAN
METHOD:PUBLISH
X-WR-CALNAME:U.S ORTHEZ ATHLETISME
X-ORIGINAL-URL:http://uso-athle.fr
X-WR-CALDESC:Events for U.S ORTHEZ ATHLETISME
BEGIN:VEVENT
DTSTART;TZID=UTC+1:20160511T180000
DTEND;TZID=UTC+1:20160511T210000
DTSTAMP:20260422T025444
CREATED:20160511T152354Z
LAST-MODIFIED:20160511T152354Z
UID:2762-1462989600-1463000400@uso-athle.fr
SUMMARY:Meeting Dax
DESCRIPTION:Horaires \n
URL:http://uso-athle.fr/calendrier/meeting-dax/
LOCATION:58 route de Saubagnacq\, Dax\, 40100
END:VEVENT
END:VCALENDAR