BEGIN:VCALENDAR
VERSION:2.0
PRODID:-//U.S ORTHEZ ATHLETISME - ECPv4.5.12.2//NONSGML v1.0//EN
CALSCALE:GREGORIAN
METHOD:PUBLISH
X-WR-CALNAME:U.S ORTHEZ ATHLETISME
X-ORIGINAL-URL:http://uso-athle.fr
X-WR-CALDESC:Events for U.S ORTHEZ ATHLETISME
BEGIN:VEVENT
DTSTART;TZID=UTC+1:20160514T110000
DTEND;TZID=UTC+1:20160515T170000
DTSTAMP:20260422T025417
CREATED:20160408T151959Z
LAST-MODIFIED:20160408T151959Z
UID:1807-1463223600-1463331600@uso-athle.fr
SUMMARY:Régionaux d'épreuves combinées
DESCRIPTION:Horaires \n
URL:http://uso-athle.fr/calendrier/regionaux-depreuves-combinees/
LOCATION:17 Avenue du Doyen Robert Poplawski\, Pau\, 64000
END:VEVENT
END:VCALENDAR