BEGIN:VCALENDAR
VERSION:2.0
PRODID:-//U.S ORTHEZ ATHLETISME - ECPv4.5.12.2//NONSGML v1.0//EN
CALSCALE:GREGORIAN
METHOD:PUBLISH
X-WR-CALNAME:U.S ORTHEZ ATHLETISME
X-ORIGINAL-URL:http://uso-athle.fr
X-WR-CALDESC:Events for U.S ORTHEZ ATHLETISME
BEGIN:VEVENT
DTSTART;TZID=UTC+1:20161028T080000
DTEND;TZID=UTC+1:20161030T170000
DTSTAMP:20260421T182713
CREATED:20161016T185400Z
LAST-MODIFIED:20161016T185400Z
UID:3298-1477641600-1477846800@uso-athle.fr
SUMMARY:Stage d'hiver
DESCRIPTION:Le stage est basé sur la préparation physique et le demi fond :\n-test VMA \n-parcours PPG\, renforcement \n-escalier des basques \n-footing \nPrévoir : Sac de couchage\, vêtements de sport\, vêtements de pluie\, maillot de bain\, gourde.\nActivités : Bowling et Surf \n
URL:http://uso-athle.fr/calendrier/stage-dhiver/
LOCATION: Rue Jean Moulin\, Anglet\, 64600
END:VEVENT
END:VCALENDAR