BEGIN:VCALENDAR
VERSION:2.0
PRODID:-//U.S ORTHEZ ATHLETISME - ECPv4.5.12.2//NONSGML v1.0//EN
CALSCALE:GREGORIAN
METHOD:PUBLISH
X-WR-CALNAME:U.S ORTHEZ ATHLETISME
X-ORIGINAL-URL:http://uso-athle.fr
X-WR-CALDESC:Events for U.S ORTHEZ ATHLETISME
BEGIN:VEVENT
DTSTART;VALUE=DATE:20160403
DTEND;VALUE=DATE:20160403
DTSTAMP:20260422T124506
CREATED:20160310T193740Z
LAST-MODIFIED:20160310T193740Z
UID:436-1459641600-1459727999@uso-athle.fr
SUMMARY:Triple Tri (2) Anglet
DESCRIPTION:Horaires  \n
URL:http://uso-athle.fr/calendrier/triple-tri-2-anglet/
LOCATION: Rue Jean Moulin\, Anglet\, 64600
END:VEVENT
END:VCALENDAR