BEGIN:VCALENDAR
VERSION:2.0
PRODID:-//U.S ORTHEZ ATHLETISME - ECPv4.5.12.2//NONSGML v1.0//EN
CALSCALE:GREGORIAN
METHOD:PUBLISH
X-WR-CALNAME:U.S ORTHEZ ATHLETISME
X-ORIGINAL-URL:http://uso-athle.fr
X-WR-CALDESC:Events for U.S ORTHEZ ATHLETISME
BEGIN:VEVENT
DTSTART;VALUE=DATE:20160501
DTEND;VALUE=DATE:20160501
DTSTAMP:20260422T063043
CREATED:20160310T194741Z
LAST-MODIFIED:20160310T194741Z
UID:453-1462060800-1462147199@uso-athle.fr
SUMMARY:Triple Tri (3) Anglet
DESCRIPTION:Horaires \n
URL:http://uso-athle.fr/calendrier/triple-tri-3-anglet/
LOCATION: Rue Jean Moulin\, Anglet\, 64600
END:VEVENT
END:VCALENDAR